BEGIN:VCALENDAR
VERSION:2.0
PRODID:-//Rich Trueman &amp; the 22nd Street Horn Band - ECPv6.15.18//NONSGML v1.0//EN
CALSCALE:GREGORIAN
METHOD:PUBLISH
X-ORIGINAL-URL:https://www.22ndstreethornband.com
X-WR-CALDESC:Events for Rich Trueman &amp; the 22nd Street Horn Band
REFRESH-INTERVAL;VALUE=DURATION:PT1H
X-Robots-Tag:noindex
X-PUBLISHED-TTL:PT1H
BEGIN:VTIMEZONE
TZID:America/Chicago
BEGIN:DAYLIGHT
TZOFFSETFROM:-0600
TZOFFSETTO:-0500
TZNAME:CDT
DTSTART:20230312T080000
END:DAYLIGHT
BEGIN:STANDARD
TZOFFSETFROM:-0500
TZOFFSETTO:-0600
TZNAME:CST
DTSTART:20231105T070000
END:STANDARD
BEGIN:DAYLIGHT
TZOFFSETFROM:-0600
TZOFFSETTO:-0500
TZNAME:CDT
DTSTART:20240310T080000
END:DAYLIGHT
BEGIN:STANDARD
TZOFFSETFROM:-0500
TZOFFSETTO:-0600
TZNAME:CST
DTSTART:20241103T070000
END:STANDARD
BEGIN:DAYLIGHT
TZOFFSETFROM:-0600
TZOFFSETTO:-0500
TZNAME:CDT
DTSTART:20250309T080000
END:DAYLIGHT
BEGIN:STANDARD
TZOFFSETFROM:-0500
TZOFFSETTO:-0600
TZNAME:CST
DTSTART:20251102T070000
END:STANDARD
END:VTIMEZONE
BEGIN:VEVENT
DTSTART;TZID=America/Chicago:20240527T120000
DTEND;TZID=America/Chicago:20240527T160000
DTSTAMP:20260420T222814
CREATED:20240428T211246Z
LAST-MODIFIED:20240428T211246Z
UID:888-1716811200-1716825600@www.22ndstreethornband.com
SUMMARY:O'Donaghue's - May 27th 12-4pm
DESCRIPTION:Please join us after the Memorial Day parade in beautiful downtown Elm Grove. \nWe’ll be rockin’ the tent at O’Donaghue’s irish Pub from Noon ’til 4 pm. \n 
URL:https://www.22ndstreethornband.com/event/odonaghues-may-27th-12-4pm/
LOCATION:O’Donaghue’s Irish Pub\, 13225 Watertown Plank Rd\, Elm Grove\, WI\, 53122\, United States
END:VEVENT
END:VCALENDAR