BEGIN:VCALENDAR
VERSION:2.0
PRODID:-//Rich Trueman &amp; the 22nd Street Horn Band - ECPv6.15.18//NONSGML v1.0//EN
CALSCALE:GREGORIAN
METHOD:PUBLISH
X-ORIGINAL-URL:https://www.22ndstreethornband.com
X-WR-CALDESC:Events for Rich Trueman &amp; the 22nd Street Horn Band
REFRESH-INTERVAL;VALUE=DURATION:PT1H
X-Robots-Tag:noindex
X-PUBLISHED-TTL:PT1H
BEGIN:VTIMEZONE
TZID:America/Chicago
BEGIN:DAYLIGHT
TZOFFSETFROM:-0600
TZOFFSETTO:-0500
TZNAME:CDT
DTSTART:20240310T080000
END:DAYLIGHT
BEGIN:STANDARD
TZOFFSETFROM:-0500
TZOFFSETTO:-0600
TZNAME:CST
DTSTART:20241103T070000
END:STANDARD
BEGIN:DAYLIGHT
TZOFFSETFROM:-0600
TZOFFSETTO:-0500
TZNAME:CDT
DTSTART:20250309T080000
END:DAYLIGHT
BEGIN:STANDARD
TZOFFSETFROM:-0500
TZOFFSETTO:-0600
TZNAME:CST
DTSTART:20251102T070000
END:STANDARD
BEGIN:DAYLIGHT
TZOFFSETFROM:-0600
TZOFFSETTO:-0500
TZNAME:CDT
DTSTART:20260308T080000
END:DAYLIGHT
BEGIN:STANDARD
TZOFFSETFROM:-0500
TZOFFSETTO:-0600
TZNAME:CST
DTSTART:20261101T070000
END:STANDARD
END:VTIMEZONE
BEGIN:VEVENT
DTSTART;TZID=America/Chicago:20250526T120000
DTEND;TZID=America/Chicago:20250526T160000
DTSTAMP:20260419T133759
CREATED:20250427T234716Z
LAST-MODIFIED:20250427T234716Z
UID:919-1748260800-1748275200@www.22ndstreethornband.com
SUMMARY:O'Donaghue's - May 26th 12-4 pm
DESCRIPTION:This Memorial Day\, join us in honoring the brave men and women who gave their all for our country with an afternoon of live music\, great food\, and camaraderie. \nLocation: O’Donoghue’s Irish Pub\, 13225 Watertown Plank Rd\, Elm Grove\, WI
URL:https://www.22ndstreethornband.com/event/odonaghues-may-26th-12-4-pm/
LOCATION:O’Donaghue’s Irish Pub\, 13225 Watertown Plank Rd\, Elm Grove\, WI\, 53122\, United States
END:VEVENT
END:VCALENDAR